BEGIN:VCALENDAR
VERSION:2.0
PRODID:-//Badhta India Trust - ECPv6.15.20//NONSGML v1.0//EN
CALSCALE:GREGORIAN
METHOD:PUBLISH
X-WR-CALNAME:Badhta India Trust
X-ORIGINAL-URL:https://badhtaindia.in
X-WR-CALDESC:Events for Badhta India Trust
REFRESH-INTERVAL;VALUE=DURATION:PT1H
X-Robots-Tag:noindex
X-PUBLISHED-TTL:PT1H
BEGIN:VTIMEZONE
TZID:UTC
BEGIN:STANDARD
TZOFFSETFROM:+0000
TZOFFSETTO:+0000
TZNAME:UTC
DTSTART:20240101T000000
END:STANDARD
END:VTIMEZONE
BEGIN:VTIMEZONE
TZID:Asia/Kolkata
BEGIN:STANDARD
TZOFFSETFROM:+0530
TZOFFSETTO:+0530
TZNAME:IST
DTSTART:20210101T000000
END:STANDARD
END:VTIMEZONE
BEGIN:VEVENT
DTSTART;TZID=UTC:20250904T090000
DTEND;TZID=UTC:20250904T170000
DTSTAMP:20260423T152612
CREATED:20250901T055806Z
LAST-MODIFIED:20250901T055806Z
UID:1828-1756976400-1757005200@badhtaindia.in
SUMMARY:Job Drive For Peoples Forum
DESCRIPTION:Physical Job drive organized on 04-09-2025\nTime 10:00 am to 3:00 pm\n🏢 Interview Venue:\n2nd Floor\, HDFC Bank Building\, In front of Hariom Bhawan\, Barbil\, Dist- Keonjhar\, Odisha\nJob Location: Keonjhar and PAN Odisha\nIf Interested\, then register here:\nhttps://forms.gle/6PTtF7j9tg7mDagc8
URL:https://badhtaindia.in/event/job-drive-for-peoples-forum/
ATTACH;FMTTYPE=image/jpeg:https://badhtaindia.in/wp-content/uploads/2025/09/People-Forum-Job-drive.jpeg
END:VEVENT
BEGIN:VEVENT
DTSTART;VALUE=DATE:20220220
DTEND;VALUE=DATE:20220321
DTSTAMP:20260423T152612
CREATED:20220718T154738Z
LAST-MODIFIED:20220718T154738Z
UID:778-1645315200-1647820799@badhtaindia.in
SUMMARY:Donate books: A gift for Life | Book Donation Drive by Badhta India
DESCRIPTION:“There are many ways to push for much-needed reforms: One way is to donate. It doesn’t matter much whether you contribute publicly or in a private way – either way is good. What matters is your true intention.” — Lee Min-ho \n  \nBooks and literacy are a sine qua non for development\, and education binds all three together. The role of education in society is universally considered pivotal and crucial. No words can stress how essential education is for development\, upliftment\, and social mobility\, particularly\, for a developing country. \nChildhood is a stage when a person’s life gets molded\, on provided veracious knowledge and multiple perspectives\, a child discovers what suits him/her best\, what are his/her interest areas and where can he excel in life. Early childhood care and education provides a way to bring the underprivileged child to the mainstream. With the goal of giving wings to their imagination and encouraging literacy in children\, Badhtaindia is organizing a Book Donation Drive to reach out to the children in need of books. This is a month-long event commencing from 20th February to 20th March 2022. \nReasons to donate your books  \n\nAn act of Charity\n\n“The meaning of life is to find your gift. The purpose of life is to give it away.” — William Shakespeare \nBy donating books\, you give other people the opportunity to discover for themselves that one book that could change their life. Passing on your books to someone else is the simplest way to spread the spirit of reading. \n  \n\nSupport to the disadvantaged section\n\nBooks and education play a major role in providing knowledge to people and in many cases opportunities to avail education are lacking while in other cases students don’t have access to books and important reference materials. There are many underprivileged children without access to information and knowledge and sometimes even basic books are expected to study. \n\nLiteracy rate\n\nIn India illiteracy continues to plague a large section of the people in India. However\, in the recent times many children have shown the urge to learn\, to be educated and started attending schools. Despite being able to attend school these children are unable to afford academic books due to high prices of the books. However\, when Students get the books\, they learn\, they perform better\, they go for further studies\, they come back\, they get good jobs and now the communities will improve. \n\nEnvironment friendly:\n\nFor every academic term or semester\, thousands of new textbooks are being printed\, bought\, and used. Approximately 425 million trees are cut down in a month across the world and 35 percent of the total trees cut around the world are used in paper industries on every continent. That equates to about 2.47 million trees cut down every day. The outcomes are unfathomable! Donating your books\, textbooks and study notes can help in recycling\, saves trees thus reduces pollution in the air. \n  \nHow to donate books? \nVolunteers of Badhtaindia are under mission to collect 500+ Books of various categories/subjects/classes to distribute it among children of disadvantaged section of the society and to establish a library for the children in the orphanages and unaided schools in India\, as a campaign to promote education for children. Our vision is to bridge the gap between those having books and those who need books. \nWays to participate in the book donation drive: \nFill up the book donation form to register and donate books: \nLink- \n  \n\nSend your books on the given address (you can courier it if the distance is far). We will share an appreciation post for you on our website and social media with the pictures of beneficiaries who would receive your donated books.\n\nAddress: \nOR \n  \n\nDonate books directly to the needy children of your locality. Capture the moment and share with us. (Use tags #Badhtaindia #Donatebooksforsmiles #Volunteersofbadhtaindia #bookdonationdrive) to get featured on our website and social media.\n\n  \nAll the donators will receive e-Certificates & top 3 donators will receive Mug & Hardcopy of certificates. \nRegister to become a volunteer: \n“Volunteering is at the very core of being a human.  No one has made it through life without someone else’s help.” – Heather French Henry \nClick on the given link to join: \nForm link- \nWhatsApp group link-
URL:https://badhtaindia.in/event/donate-books-a-gift-for-life-book-donation-drive-by-badhta-india/
LOCATION:Online\, Village:- Murhua\, Post:-Manaur\, Dist:- Manaur\, Uttar Pradesh 231302\, Mirzapur\, Uttar Pradesh\, 231302\, India
CATEGORIES:Campaign
ATTACH;FMTTYPE=image/jpeg:https://badhtaindia.in/wp-content/uploads/2022/07/Book-donation-drive.jpg
END:VEVENT
END:VCALENDAR